﻿BEGIN:VCALENDAR
VERSION:2.0
PRODID:-//wp-events-plugin.com//7.2.3.1//EN
TZID:Europe/Amsterdam
X-WR-TIMEZONE:Europe/Amsterdam
BEGIN:VEVENT
UID:1745@bezoekhetnoorden.nl
DTSTART;TZID=Europe/Amsterdam:20190706T090000
DTEND;TZID=Europe/Amsterdam:20190706T170000
DTSTAMP:20190320T184151Z
URL:https://bezoekhetnoorden.nl/evenementen/beachvolleybaltoernooi-appelsc
 ha/
SUMMARY:Beachvolleybaltoernooi Appelscha
DESCRIPTION:Zaterdag 6 juli 2019 van 09:00 - 17:00\n\nBeachvolleybal Appels
 cha\n
ATTACH;FMTTYPE=image/jpeg:https://bezoekhetnoorden.nl/new/wp-content/uploa
 ds/2019/03/Beachvolleybaltoernooi-Appelscha.jpg
CATEGORIES:Toernooi
LOCATION:\, \, 
X-APPLE-STRUCTURED-LOCATION;VALUE=URI;X-ADDRESS=\, ;X-APPLE-RADIUS=100;X-TI
 TLE=:geo:0,0
END:VEVENT
BEGIN:VTIMEZONE
TZID:Europe/Amsterdam
X-LIC-LOCATION:Europe/Amsterdam
BEGIN:DAYLIGHT
DTSTART:20190331T030000
TZOFFSETFROM:+0100
TZOFFSETTO:+0200
TZNAME:CEST
END:DAYLIGHT
END:VTIMEZONE
END:VCALENDAR