﻿BEGIN:VCALENDAR
VERSION:2.0
PRODID:-//wp-events-plugin.com//7.2.3.1//EN
TZID:Europe/Amsterdam
X-WR-TIMEZONE:Europe/Amsterdam
BEGIN:VEVENT
UID:1982@bezoekhetnoorden.nl
DTSTART;TZID=Europe/Amsterdam:20200126T133000
DTEND;TZID=Europe/Amsterdam:20200126T160000
DTSTAMP:20191210T165038Z
URL:https://bezoekhetnoorden.nl/evenementen/barbizon-van-het-noorden-rolde
 -2/
SUMMARY:Barbizon van het Noorden - Rolde
DESCRIPTION:Drenthe staat bekend om zijn prachtige natuur en gemoedelijke b
 evolking. Veel toeristen bezoeken de provincie elk jaar weer precies om di
 e typische kenmerken. Dit beeld van Drenthe is in de 18de eeuw ontstaan\, 
 toen de eerste kunstenaars gewapend met hun potlood en schildersezel de wo
 este maar bovenal het wonderschone Drentse landschap ontdekten. Er is een 
 mooie vergelijking te maken met het bekende Franse Barbizon\, waar kunsten
 aars zich in de 19de eeuw verzamelden om de natuur te gaan schilderen\, va
 ak in de openlucht. Drenthe vervult eenzelfde rol als Barbizon met kunsten
 aarsdorpen als Zweeloo\, Rolde en Vries als verzamelplekken.\n\nMet een de
 skundige gids maakt u een wandeling door Rolde. U ziet de plekken waar sch
 ilders als Van de Sande Bakhuyzen\, Havard\, Van der Boon\, Wenckebach en 
 Van Rappard hebben gewerkt. U ziet met eigen ogen waar de omgeving gelijk 
 is gebleven en waar niet. De gids laat reproducties van de schilderijen zi
 en zodat u vroeger en nu goed met elkaar kunt vergelijken. De schilderijen
  gaan op deze manier nog veel meer leven. Een echte aanrader!\n
ATTACH;FMTTYPE=image/jpeg:https://bezoekhetnoorden.nl/new/wp-content/uploa
 ds/2019/12/DrentsMuseum-Barbizon-affiche-A2-snijtekens.jpg
CATEGORIES:Excursie
LOCATION:\, \, 
X-APPLE-STRUCTURED-LOCATION;VALUE=URI;X-ADDRESS=\, ;X-APPLE-RADIUS=100;X-TI
 TLE=:geo:0,0
END:VEVENT
BEGIN:VTIMEZONE
TZID:Europe/Amsterdam
X-LIC-LOCATION:Europe/Amsterdam
BEGIN:STANDARD
DTSTART:20191027T020000
TZOFFSETFROM:+0200
TZOFFSETTO:+0100
TZNAME:CET
END:STANDARD
END:VTIMEZONE
END:VCALENDAR