﻿BEGIN:VCALENDAR
VERSION:2.0
PRODID:-//wp-events-plugin.com//7.2.3.1//EN
TZID:Europe/Amsterdam
X-WR-TIMEZONE:Europe/Amsterdam
BEGIN:VEVENT
UID:282@bezoekhetnoorden.nl
DTSTART;TZID=Europe/Amsterdam:20190323T190000
DTEND;TZID=Europe/Amsterdam:20190323T235900
DTSTAMP:20190220T215921Z
URL:https://bezoekhetnoorden.nl/evenementen/avondwandeltocht-de-14-van-kam
 eleondorp-terherne/
SUMMARY:Avondwandeltocht de 14 van Kameleondorp Terherne
DESCRIPTION:De wandeltocht “De 14 van Kameleondorp Terherne” wordt dit 
 jaar op 23 maart georganiseerd.\n\nHet is een avondwandeling van ongeveer 
 14\,32 kilometer rondom Terherne. Gedurende de tocht passeren de deelnemer
 s 14 verschillende belevenissen die deze wandeling verrassend\, sfeervol e
 n uniek maken. \n\nDe start is om 19.00 uur bij de Kameleonboerderij. Wat 
 er vervolgens gaat gebeuren blijft een verrassing maar we kunnen al wel ve
 rtellen dat we er weer een feestje van maken. \nZorg dus dat je erbij bent
 ! 
ATTACH;FMTTYPE=image/jpeg:https://bezoekhetnoorden.nl/new/wp-content/uploa
 ds/2015/12/ab9e958e-1b37-4e78-adbb-2a9cf2a87b17.jpg
CATEGORIES:Wandelen
LOCATION:\, \, 
X-APPLE-STRUCTURED-LOCATION;VALUE=URI;X-ADDRESS=\, ;X-APPLE-RADIUS=100;X-TI
 TLE=:geo:0,0
END:VEVENT
BEGIN:VTIMEZONE
TZID:Europe/Amsterdam
X-LIC-LOCATION:Europe/Amsterdam
BEGIN:STANDARD
DTSTART:20181028T020000
TZOFFSETFROM:+0200
TZOFFSETTO:+0100
TZNAME:CET
END:STANDARD
END:VTIMEZONE
END:VCALENDAR