﻿BEGIN:VCALENDAR
VERSION:2.0
PRODID:-//wp-events-plugin.com//7.2.3.1//EN
TZID:Europe/Amsterdam
X-WR-TIMEZONE:Europe/Amsterdam
BEGIN:VEVENT
UID:1878@bezoekhetnoorden.nl
DTSTART;TZID=Europe/Amsterdam:20190831T183000
DTEND;TZID=Europe/Amsterdam:20190831T230000
DTSTAMP:20190719T145026Z
URL:https://bezoekhetnoorden.nl/evenementen/avond-kanotocht-2/
SUMMARY:Avond kanotocht
DESCRIPTION:Een aantal avontuurlijke avond-kanotochten op de Hunze. Wij var
 en deze tocht vanuit Gasselternijveen en gaan het Torenveen verkennen. De 
 gids zorgt voor goede kano instructies zodat ook de minder ervaren kanovaa
 rders een fijne en veilige tocht beleven.\n\nAl peddelend in de steeds don
 ker wordende avond beleef je de natuur op een wel heel intense wijze! Natu
 urlijk gaan wij op zoek naar de bever\, en leer je bever sporen te herkenn
 en.\nMaar ook de Otter zal zeker de revue passeren. Halverwege de tocht ma
 ken wij een kampvuur\; een korte workshop vuurmaken\,  koffie\,  wildplukt
 hee en een bannockbroodje op een vuurtje zijn allemaal onderdeel van het p
 rogramma.\n\nIn het Wilde weg werkt met het “leave no trace” principe\
 ; wij laten geen rommel achter in de natuur\, en werken om verstoring te v
 oorkomen\, alleen met kleine groepen.\nOpgave is noodzakelijk en kan via 0
 6-40148237 of info@inhetwildeweg.nl.\n
ATTACH;FMTTYPE=image/jpeg:https://bezoekhetnoorden.nl/new/wp-content/uploa
 ds/2019/03/kano-zuidladermeer.jpg
CATEGORIES:Kanotocht
LOCATION:\, \, 
X-APPLE-STRUCTURED-LOCATION;VALUE=URI;X-ADDRESS=\, ;X-APPLE-RADIUS=100;X-TI
 TLE=:geo:0,0
END:VEVENT
BEGIN:VTIMEZONE
TZID:Europe/Amsterdam
X-LIC-LOCATION:Europe/Amsterdam
BEGIN:DAYLIGHT
DTSTART:20190331T030000
TZOFFSETFROM:+0100
TZOFFSETTO:+0200
TZNAME:CEST
END:DAYLIGHT
END:VTIMEZONE
END:VCALENDAR