﻿BEGIN:VCALENDAR
VERSION:2.0
PRODID:-//wp-events-plugin.com//7.2.3.1//EN
TZID:Europe/Amsterdam
X-WR-TIMEZONE:Europe/Amsterdam
BEGIN:VEVENT
UID:1749@bezoekhetnoorden.nl
DTSTART;TZID=Europe/Amsterdam:20190525T140000
DTEND;TZID=Europe/Amsterdam:20190525T170000
DTSTAMP:20190326T174900Z
URL:https://bezoekhetnoorden.nl/evenementen/archeologische-fietstocht/
SUMMARY:Archeologische fietstocht
DESCRIPTION:Dit is een activiteit van het OERmuseum: \nArcheologische fiets
 tocht langs de flanken van de Havelterberg en Bisschopsberg. De tocht is c
 a. 20 km en onder leiding van een gids. U komt langs de adembenemende mooi
 e Havelterberg\, langs groepen grafheuvels en prachtige hunebedden. Ook ko
 mt u onderweg sporen uit de Tweede Wereldoorlog tegen. \n\n
ATTACH;FMTTYPE=image/jpeg:https://bezoekhetnoorden.nl/new/wp-content/uploa
 ds/2019/03/Hunebed-Havelterberg-Foto-Hans-Dekker-2-1.jpg
CATEGORIES:Fietsen
LOCATION:\, \, 
X-APPLE-STRUCTURED-LOCATION;VALUE=URI;X-ADDRESS=\, ;X-APPLE-RADIUS=100;X-TI
 TLE=:geo:0,0
END:VEVENT
BEGIN:VTIMEZONE
TZID:Europe/Amsterdam
X-LIC-LOCATION:Europe/Amsterdam
BEGIN:DAYLIGHT
DTSTART:20190331T030000
TZOFFSETFROM:+0100
TZOFFSETTO:+0200
TZNAME:CEST
END:DAYLIGHT
END:VTIMEZONE
END:VCALENDAR