﻿BEGIN:VCALENDAR
VERSION:2.0
PRODID:-//wp-events-plugin.com//7.2.3.1//EN
TZID:Europe/Amsterdam
X-WR-TIMEZONE:Europe/Amsterdam
BEGIN:VEVENT
UID:979@bezoekhetnoorden.nl
DTSTART;TZID=Europe/Amsterdam:20181020T103000
DTEND;TZID=Europe/Amsterdam:20181020T150000
DTSTAMP:20180224T191343Z
URL:https://bezoekhetnoorden.nl/evenementen/abe-bonnema-experience-2018-35
 /
SUMMARY:Abe Bonnema Experience 2018
DESCRIPTION:Uitzicht over Friesland vanaf meer dan honderd meter hoogte\, m
 et de Culturele Hoofdstad van Europa aan je voeten: de Abe Bonnema Experie
 nce 2018!\n\nBij de Abe Bonnema Experience kun je vanaf het hoogste punt i
 n Noord-Nederland een groot deel van Friesland overzien. Bij mooi weer zie
  je de veerboten naar Ameland varen! Het centrum van Leeuwarden\, Culturel
 e Hoofdstad van Europa in 2018\, ligt letterlijk aan je voeten.\n\nHet uni
 eke avontuur speelt zich af bovenin de 114 meter hoge Achmeatoren in het h
 art van de stad. Door de hoge snelheid is alleen de reis per lift naar bov
 en al een belevenis. De Panoramazaal\, op de 26e verdieping van de toren\,
  straalt een en al ruimtelijkheid uit. Een topattractie voor grote en klei
 ne stadsbezoekers.Het unieke avontuur speelt zich af bovenin de 114 meter 
 hoge Achmeatoren in het hart van de stad. Door de hoge snelheid is alleen 
 de reis per lift naar boven al een belevenis. De Panoramazaal\, op de 26e 
 verdieping van de toren\, straalt een en al ruimtelijkheid uit. Een topatt
 ractie voor grote en kleine stadsbezoekers.\n\nLaat je tegelijk verrassen 
 door de tentoonstelling over het werk van Abe Bonnema\, de Friese architec
 t die zoveel heeft betekent voor het aanzien van Leeuwarden.
ATTACH;FMTTYPE=image/jpeg:https://bezoekhetnoorden.nl/new/wp-content/uploa
 ds/2018/02/28056743_2095080890724735_1254327986645263650_n.jpg
CATEGORIES:Ontdekkingstocht
LOCATION:\, \, 
X-APPLE-STRUCTURED-LOCATION;VALUE=URI;X-ADDRESS=\, ;X-APPLE-RADIUS=100;X-TI
 TLE=:geo:0,0
END:VEVENT
BEGIN:VTIMEZONE
TZID:Europe/Amsterdam
X-LIC-LOCATION:Europe/Amsterdam
BEGIN:DAYLIGHT
DTSTART:20180325T030000
TZOFFSETFROM:+0100
TZOFFSETTO:+0200
TZNAME:CEST
END:DAYLIGHT
END:VTIMEZONE
END:VCALENDAR