﻿BEGIN:VCALENDAR
VERSION:2.0
PRODID:-//wp-events-plugin.com//7.2.3.1//EN
TZID:Europe/Amsterdam
X-WR-TIMEZONE:Europe/Amsterdam
BEGIN:VEVENT
UID:1029@bezoekhetnoorden.nl
DTSTART;TZID=Europe/Amsterdam:20190622T193000
DTEND;TZID=Europe/Amsterdam:20190623T123000
DTSTAMP:20190221T120107Z
URL:https://bezoekhetnoorden.nl/evenementen/40-mijl-nachtwandeling/
SUMMARY:40 Mijl Nachtwandeling
DESCRIPTION:In 2017 heeft de eerste editie van de 40Mijl midzomernachtwande
 ling plaatsgevonden. Een unieke wandeltocht door het Dark Sky Park in de (
 bijna) kortste nacht van het jaar. Over de dijken van het Reitdiep\, langs
  het Lauwersmeer en over de zeedijk met uitzicht op Schiermonnikoog. Een b
 uitengewone tocht door één van de mooiste natuurgebieden van Nederland\;
  het Lauwersmeer.\n\nDe 40Mijl tocht wordt aangeboden in drie afstanden\, 
 40 Mijl\, 40 Kilometer en voor het eerst een 25 Kilometer variant. De 40Mi
 jl route is zelfs iets langer\, deze is een uitdagende 67 kilometer!\nKenm
 erkend is dat de tocht veel afwisseling kent\, de weidsheid van landerijen
 \, de Waddenzee\, bossen\, dijken en water voeren langs idyllische en toer
 istische plaatsen\, vissersdorpjes en Europa's grootste "spookdorp" het mi
 litaire oefendorp Marnehuizen.\n\nUiteraard wordt er gezorgd voor EHBO pos
 ten\, masseurs\, stempelposten en versnaperingen voor de deelnemers. Wel d
 ienen deelnemers zelf voor voldoende extra broodjes en drinken te zorgen n
 aar eigen behoefte.\nParkeerplaatsen aanwezig bij de start\n\nKoffie en th
 ee en koek en cake bij de start en finish\nVoeten intapen bij de start mog
 elijk (graag vooraf aangeven)\nOnderweg is water verkrijgbaar\nDiverse dra
 nken\, versnaperingen en fruit bij de scanposten\nBroodjes en soep bij het
  rustpunt Robersum\nWarm broodje bij rustpunt Garnwerd\nMedaille en stempe
 l bij de finish\nZaklantaarn en reflecterende kleding verplicht\nVerkoopta
 fel bij de start aanwezig voor deze zaken (reserveren gewenst)\nDe route s
 tart 's avonds bij Camping De Waterwolf te Electra/Lauwerzijl. De 25 Kilom
 eter variant zal starten om 22.00 uur vanaf Restaurant Suyderoogh bij Lauw
 ersoog.\n\nDe maan is in 2018 voor 76% zichtbaar en dit geeft een mooi bee
 ld van het natuurgebied. Het is enkele dagen na de kortste nacht. Er wordt
  de hele nacht doorgelopen met diverse rustpunten en informatiepunten onde
 rweg.
ATTACH;FMTTYPE=image/jpeg:https://bezoekhetnoorden.nl/new/wp-content/uploa
 ds/2018/03/nachtwandeling.jpg
CATEGORIES:Wandelen
LOCATION:\, \, 
X-APPLE-STRUCTURED-LOCATION;VALUE=URI;X-ADDRESS=\, ;X-APPLE-RADIUS=100;X-TI
 TLE=:geo:0,0
END:VEVENT
BEGIN:VTIMEZONE
TZID:Europe/Amsterdam
X-LIC-LOCATION:Europe/Amsterdam
BEGIN:DAYLIGHT
DTSTART:20190331T030000
TZOFFSETFROM:+0100
TZOFFSETTO:+0200
TZNAME:CEST
END:DAYLIGHT
END:VTIMEZONE
END:VCALENDAR