﻿BEGIN:VCALENDAR
VERSION:2.0
PRODID:-//wp-events-plugin.com//7.2.3.1//EN
TZID:Europe/Amsterdam
X-WR-TIMEZONE:Europe/Amsterdam
BEGIN:VEVENT
UID:285@bezoekhetnoorden.nl
DTSTART;TZID=Europe/Amsterdam:20190528T070000
DTEND;TZID=Europe/Amsterdam:20190601T190000
DTSTAMP:20190220T220243Z
URL:https://bezoekhetnoorden.nl/evenementen/11-stedenwandeltocht/
SUMMARY:11-Stedenwandeltocht
DESCRIPTION:De 11-Stedenwandeltocht is het grootste jaarlijkse wandelevenem
 ent van Fryslân. In 5 dagen lopen zo’n duizend wandelaars langs de Frie
 se elf steden.\n\nTussen de steden wandelt u door het uitgestrekte weidela
 ndschap en pittoreske dorpjes. Tijdens de tocht kunt u genieten van de wei
 dse vergezichten\, de prachtige velden met grazende koeien\, Friese paarde
 n en de rijke geschiedenis van het landschap.\nDe 11-Stedenwandeltocht wor
 dt traditioneel in de week van Hemelvaartsdag georganiseerd.\n\nHet is ook
  mogelijk één of meerdere dagen deel te nemen. Zo kan ieder op z’n eig
 en manier genieten van de onvergetelijke sfeer van de ‘Wandeltocht der T
 ochten’. Voor diegene die de gehele tocht volbrengt is er het felbegeerd
 e 11-Stedenwandelkruisje. Een van de drie officiële 11-Stedenkruisjes.\n\
 nDag 1     Leeuwarden – Sloten ca. 49 km\nDag 2     Sloten – W
 orkum ca. 44 km\nDag 3     Workum – Franeker ca. 42 km\nDag 4   
   Franeker – Dokkum ca. 44 km\nDag 5     Dokkum – Leeuwarden ca. 
 28 km
ATTACH;FMTTYPE=image/jpeg:https://bezoekhetnoorden.nl/new/wp-content/uploa
 ds/2016/12/elfstedenwandeltocht.jpg
CATEGORIES:Wandelen
LOCATION:\, \, 
X-APPLE-STRUCTURED-LOCATION;VALUE=URI;X-ADDRESS=\, ;X-APPLE-RADIUS=100;X-TI
 TLE=:geo:0,0
END:VEVENT
BEGIN:VTIMEZONE
TZID:Europe/Amsterdam
X-LIC-LOCATION:Europe/Amsterdam
BEGIN:DAYLIGHT
DTSTART:20190331T030000
TZOFFSETFROM:+0100
TZOFFSETTO:+0200
TZNAME:CEST
END:DAYLIGHT
END:VTIMEZONE
END:VCALENDAR